BEGIN:VCALENDAR
VERSION:2.0
PRODID:-//mrlib.org//NONSGML kigkonsult.se iCalcreator 2.30.10//
CALSCALE:GREGORIAN
METHOD:PUBLISH
UID:a4cc18eb-a68e-4357-a30b-9440cb7a8f08
X-WR-CALDESC:Children of all ages can enjoy special books and songs with a 
 Shenandoah Police officer!
X-WR-RELCALID:a552da41110342d1954f27fd2b1985ab
X-WR-TIMEZONE:America/New_York
BEGIN:VTIMEZONE
TZID:America/New_York
BEGIN:STANDARD
TZNAME:EST
DTSTART:20241103T020000
TZOFFSETFROM:-0400
TZOFFSETTO:-0500
RDATE:20251102T020000
RDATE:20261101T020000
END:STANDARD
BEGIN:DAYLIGHT
TZNAME:EDT
DTSTART:20250309T020000
TZOFFSETFROM:-0500
TZOFFSETTO:-0400
RDATE:20260308T020000
RDATE:20270314T020000
END:DAYLIGHT
END:VTIMEZONE
BEGIN:VEVENT
UID:60daa559-2380-4389-ace3-fda39514f978
DTSTAMP:20260419T192557Z
DESCRIPTION:Children of all ages can enjoy special books and songs with a S
 henandoah Police officer!
DTSTART;TZID=America/New_York:20251007T110000
DTEND;TZID=America/New_York:20251007T113000
LOCATION:Shenandoah Community Library\, 418 S. Third Street\, Shenandoah\, 
 VA 22849 US
SUMMARY:Story Time with the Shenandoah Police Department @Shenandoah Commun
 ity Library
END:VEVENT
END:VCALENDAR
