BEGIN:VCALENDAR
VERSION:2.0
PRODID:-//mrlib.org//NONSGML kigkonsult.se iCalcreator 2.30.10//
CALSCALE:GREGORIAN
METHOD:PUBLISH
UID:66dd9fca-1887-4b4e-ba1b-7daf46952802
X-WR-CALDESC:2-3 year olds and their caregivers are invited to join us for 
 a fun filled story time complete with books\, nursery rhymes\, songs\, and
  crafts designed to strengthen early literacy development.
X-WR-RELCALID:d0009a709663ae817c1235aaa7010d38
X-WR-TIMEZONE:America/New_York
BEGIN:VTIMEZONE
TZID:America/New_York
BEGIN:STANDARD
TZNAME:EST
DTSTART:20241103T020000
TZOFFSETFROM:-0400
TZOFFSETTO:-0500
RDATE:20251102T020000
RDATE:20261101T020000
END:STANDARD
BEGIN:DAYLIGHT
TZNAME:EDT
DTSTART:20250309T020000
TZOFFSETFROM:-0500
TZOFFSETTO:-0400
RDATE:20260308T020000
RDATE:20270314T020000
END:DAYLIGHT
END:VTIMEZONE
BEGIN:VEVENT
UID:afe23353-04d8-495f-9abc-f6b779ebfccf
DTSTAMP:20260419T191721Z
DESCRIPTION:2-3 year olds and their caregivers are invited to join us for a
  fun filled story time complete with books\, nursery rhymes\, songs\, and 
 crafts designed to strengthen early literacy development.
DTSTART;TZID=America/New_York:20251009T110000
DTEND;TZID=America/New_York:20251009T113000
LOCATION:174 S. Main St.\, Harrisonburg\, VA 22801 US
SUMMARY:Tremendous Toddlers @ Central Library
END:VEVENT
END:VCALENDAR
