BEGIN:VCALENDAR
VERSION:2.0
PRODID:-//mrlib.org//NONSGML kigkonsult.se iCalcreator 2.30.10//
CALSCALE:GREGORIAN
METHOD:PUBLISH
UID:6a482b9e-1ef0-4fec-9cec-f201d96473a2
X-WR-CALDESC:Join the fun as we set up a variety of board games for all age
 s.
X-WR-RELCALID:c23c7be6c1be1abcdfb76a51f2d79566
X-WR-TIMEZONE:America/New_York
BEGIN:VTIMEZONE
TZID:America/New_York
BEGIN:STANDARD
TZNAME:EST
DTSTART:20241103T020000
TZOFFSETFROM:-0400
TZOFFSETTO:-0500
RDATE:20251102T020000
RDATE:20261101T020000
END:STANDARD
BEGIN:DAYLIGHT
TZNAME:EDT
DTSTART:20250309T020000
TZOFFSETFROM:-0500
TZOFFSETTO:-0400
RDATE:20260308T020000
RDATE:20270314T020000
END:DAYLIGHT
END:VTIMEZONE
BEGIN:VEVENT
UID:05055de6-ccaf-402f-9a2d-452ba5a96d11
DTSTAMP:20260419T192242Z
DESCRIPTION:Join the fun as we set up a variety of board games for all ages
 .
DTSTART;TZID=America/New_York:20251009T160000
DTEND;TZID=America/New_York:20251009T170000
LOCATION:601 Dogwood Ave\, Grottoes\, VA 24441 US
SUMMARY:Board Games @ Grottoes Branch Library
END:VEVENT
END:VCALENDAR
