BEGIN:VCALENDAR
VERSION:2.0
PRODID:-//mrlib.org//NONSGML kigkonsult.se iCalcreator 2.30.10//
CALSCALE:GREGORIAN
METHOD:PUBLISH
UID:b899a460-db08-46b7-9e4c-13196121333a
X-WR-CALDESC:Celebrate 30 years of North River Library's service to our com
 munity! We'll kick off the festivities with a special Story Time featuring
  Jennifer Runion\, followed by lovely musical performances from Tator Bird
  and the Shenandoah Valley Ukulele Players. Enjoy a light lunch on us and 
 stroll down memory lane with photos and stories!\n\nDo you have a story yo
 u'd like to share about North River Library or any MRL branch? Set up an a
 ppointment at the link below - we may include it in our Century of Stories
  oral history project for MRL's 2028 centennial celebration!
X-WR-RELCALID:e03b8eb9e57953de203f087c943094fe
X-WR-TIMEZONE:America/New_York
BEGIN:VTIMEZONE
TZID:America/New_York
BEGIN:STANDARD
TZNAME:EST
DTSTART:20241103T020000
TZOFFSETFROM:-0400
TZOFFSETTO:-0500
RDATE:20251102T020000
RDATE:20261101T020000
END:STANDARD
BEGIN:DAYLIGHT
TZNAME:EDT
DTSTART:20250309T020000
TZOFFSETFROM:-0500
TZOFFSETTO:-0400
RDATE:20260308T020000
RDATE:20270314T020000
END:DAYLIGHT
END:VTIMEZONE
BEGIN:VEVENT
UID:fb4ad632-a9ff-4665-9380-888aebf478be
DTSTAMP:20260419T191208Z
DESCRIPTION:Celebrate 30 years of North River Library's service to our comm
 unity! We'll kick off the festivities with a special Story Time featuring 
 Jennifer Runion\, followed by lovely musical performances from Tator Bird 
 and the Shenandoah Valley Ukulele Players. Enjoy a light lunch on us and s
 troll down memory lane with photos and stories!\n\nDo you have a story you
 'd like to share about North River Library or any MRL branch? Set up an ap
 pointment at the link below - we may include it in our Century of Stories 
 oral history project for MRL's 2028 centennial celebration!
DTSTART;TZID=America/New_York:20251011T110000
DTEND;TZID=America/New_York:20251011T140000
LOCATION:North River Library\, 118 Mt. Crawford Avenue\, Bridgewater\, VA 2
 2812 US
SUMMARY:30th Anniversary Celebration @North River Library
END:VEVENT
END:VCALENDAR
