BEGIN:VCALENDAR
VERSION:2.0
PRODID:-//mrlib.org//NONSGML kigkonsult.se iCalcreator 2.30.10//
CALSCALE:GREGORIAN
METHOD:PUBLISH
UID:5bf1776b-6dd2-4be5-9623-a50a9d4d6d0f
X-WR-CALDESC:K-5 kids: get ready to explore the great outdoors from the com
 fort of the library! Learn about our national and state parks\, how to rea
 d a map and identify local plants and animals\, and test your skills like 
 a Junior Ranger!
X-WR-RELCALID:194af206b6c2d06ba7ba32a960405e49
X-WR-TIMEZONE:America/New_York
BEGIN:VTIMEZONE
TZID:America/New_York
BEGIN:STANDARD
TZNAME:EST
DTSTART:20241103T020000
TZOFFSETFROM:-0400
TZOFFSETTO:-0500
RDATE:20251102T020000
RDATE:20261101T020000
END:STANDARD
BEGIN:DAYLIGHT
TZNAME:EDT
DTSTART:20250309T020000
TZOFFSETFROM:-0500
TZOFFSETTO:-0400
RDATE:20260308T020000
RDATE:20270314T020000
END:DAYLIGHT
END:VTIMEZONE
BEGIN:VEVENT
UID:20ca1b0f-a244-4783-8203-55ea2286f82a
DTSTAMP:20260419T191208Z
DESCRIPTION:K-5 kids: get ready to explore the great outdoors from the comf
 ort of the library! Learn about our national and state parks\, how to read
  a map and identify local plants and animals\, and test your skills like a
  Junior Ranger!
DTSTART;TZID=America/New_York:20251011T130000
DTEND;TZID=America/New_York:20251011T140000
LOCATION:Central Library\, 174 S. Main Street\, Harrisonburg\, VA 22801 US
SUMMARY:Pathway to Your Parks @Central Library
END:VEVENT
END:VCALENDAR
