BEGIN:VCALENDAR
VERSION:2.0
PRODID:-//mrlib.org//NONSGML kigkonsult.se iCalcreator 2.30.10//
CALSCALE:GREGORIAN
METHOD:PUBLISH
UID:77279361-b450-474b-b321-28d20e504ac5
X-WR-CALDESC:All MRL locations are on a Story Time planning break. We'll se
 e you the week of October 27th!
X-WR-RELCALID:8e2b03ee5a1c7ffb825f040a4fc92690
X-WR-TIMEZONE:America/New_York
BEGIN:VTIMEZONE
TZID:America/New_York
BEGIN:STANDARD
TZNAME:EST
DTSTART:20241103T020000
TZOFFSETFROM:-0400
TZOFFSETTO:-0500
RDATE:20251102T020000
RDATE:20261101T020000
END:STANDARD
BEGIN:DAYLIGHT
TZNAME:EDT
DTSTART:20250309T020000
TZOFFSETFROM:-0500
TZOFFSETTO:-0400
RDATE:20260308T020000
RDATE:20270314T020000
END:DAYLIGHT
END:VTIMEZONE
BEGIN:VEVENT
UID:7e5d73ea-e0e7-4d1a-8fa1-bbd1714f71d1
DTSTAMP:20260419T191140Z
DESCRIPTION:All MRL locations are on a Story Time planning break. We'll see
  you the week of October 27th!
DTSTART;TZID=America/New_York:20251013T060000
DTEND;TZID=America/New_York:20251025T060001
LOCATION:
SUMMARY:STORY TIME BREAK
END:VEVENT
END:VCALENDAR
