BEGIN:VCALENDAR
VERSION:2.0
PRODID:-//mrlib.org//NONSGML kigkonsult.se iCalcreator 2.30.10//
CALSCALE:GREGORIAN
METHOD:PUBLISH
UID:de8e1bb3-1e70-4154-ad31-d7bd9365146e
X-WR-CALDESC:Kids ages 5 and up: join us every 2nd Tuesday of the month for
  a drop-in program dedicated to STEAM (Science\, Technology\, Engineering\
 , Art\, and Math) creativity and free play!\n\nWe'll provide a ton of fun 
 activities\, including Legos\, keva planks\, Brainometry shape puzzles\, a
 nd art!
X-WR-RELCALID:8db17fe348c907e5a3b8dac93097f20e
X-WR-TIMEZONE:America/New_York
BEGIN:VTIMEZONE
TZID:America/New_York
BEGIN:STANDARD
TZNAME:EST
DTSTART:20241103T020000
TZOFFSETFROM:-0400
TZOFFSETTO:-0500
RDATE:20251102T020000
RDATE:20261101T020000
END:STANDARD
BEGIN:DAYLIGHT
TZNAME:EDT
DTSTART:20250309T020000
TZOFFSETFROM:-0500
TZOFFSETTO:-0400
RDATE:20260308T020000
RDATE:20270314T020000
END:DAYLIGHT
END:VTIMEZONE
BEGIN:VEVENT
UID:25147858-222c-4b7c-96cd-c1df5bdcb680
DTSTAMP:20260419T191400Z
DESCRIPTION:Kids ages 5 and up: join us every 2nd Tuesday of the month for 
 a drop-in program dedicated to STEAM (Science\, Technology\, Engineering\,
  Art\, and Math) creativity and free play!\n\nWe'll provide a ton of fun a
 ctivities\, including Legos\, keva planks\, Brainometry shape puzzles\, an
 d art!
DTSTART;TZID=America/New_York:20251014T140000
DTEND;TZID=America/New_York:20251014T173000
LOCATION:North River Library\, 118 Mt. Crawford Avenue\, Bridgewater\, VA 2
 2812 US
SUMMARY:Builders and Makers @North River Library
END:VEVENT
END:VCALENDAR
