BEGIN:VCALENDAR
VERSION:2.0
PRODID:-//mrlib.org//NONSGML kigkonsult.se iCalcreator 2.30.10//
CALSCALE:GREGORIAN
METHOD:PUBLISH
UID:251383fc-98e4-48b0-b8c2-89e58e98e0ee
X-WR-CALDESC:Browse bargain books inside Shenandoah Community Library and d
 irectly support our nonprofit mission! \n\nPrice breakdown*\n- Hardcovers:
  $2.00\n- Paperbacks: $0.50\n- Children's books: $0.25\n- DVDs: $1.00\n\n*
 Special editions may have higher pricing
X-WR-RELCALID:c58b3372c78a1a4a661c9aa61a3c15a4
X-WR-TIMEZONE:America/New_York
BEGIN:VTIMEZONE
TZID:America/New_York
BEGIN:STANDARD
TZNAME:EST
DTSTART:20241103T020000
TZOFFSETFROM:-0400
TZOFFSETTO:-0500
RDATE:20251102T020000
RDATE:20261101T020000
END:STANDARD
BEGIN:DAYLIGHT
TZNAME:EDT
DTSTART:20250309T020000
TZOFFSETFROM:-0500
TZOFFSETTO:-0400
RDATE:20260308T020000
RDATE:20270314T020000
END:DAYLIGHT
END:VTIMEZONE
BEGIN:VEVENT
UID:1aa49a18-67e8-4b7d-9590-a1f3c081eb77
DTSTAMP:20260419T191333Z
DESCRIPTION:Browse bargain books inside Shenandoah Community Library and di
 rectly support our nonprofit mission! \n\nPrice breakdown*\n- Hardcovers: 
 $2.00\n- Paperbacks: $0.50\n- Children's books: $0.25\n- DVDs: $1.00\n\n*S
 pecial editions may have higher pricing
DTSTART;TZID=America/New_York:20251014T100000
DTEND;TZID=America/New_York:20251014T180000
LOCATION:Shenandoah Community Library\, 418 S. Third Street\, Shenandoah\, 
 VA 22849 US
SUMMARY:Fall Book Sale @Shenandoah Community Library
END:VEVENT
END:VCALENDAR
