BEGIN:VCALENDAR
VERSION:2.0
PRODID:-//mrlib.org//NONSGML kigkonsult.se iCalcreator 2.30.10//
CALSCALE:GREGORIAN
METHOD:PUBLISH
UID:8c5b7a14-a372-4bf3-a5d7-da931a7716bf
X-WR-CALDESC:Let your curiosity go wild while conducting exciting science e
 xperiments! Super Science is geared towards kindergarten through 5th grade
  youth.
X-WR-RELCALID:30a377bedb29666aa144161af9c294cb
X-WR-TIMEZONE:America/New_York
BEGIN:VTIMEZONE
TZID:America/New_York
BEGIN:STANDARD
TZNAME:EST
DTSTART:20241103T020000
TZOFFSETFROM:-0400
TZOFFSETTO:-0500
RDATE:20251102T020000
RDATE:20261101T020000
END:STANDARD
BEGIN:DAYLIGHT
TZNAME:EDT
DTSTART:20250309T020000
TZOFFSETFROM:-0500
TZOFFSETTO:-0400
RDATE:20260308T020000
RDATE:20270314T020000
END:DAYLIGHT
END:VTIMEZONE
BEGIN:VEVENT
UID:706ac9e0-324d-4b87-a9a2-bdbdd2523f5c
DTSTAMP:20260419T191207Z
DESCRIPTION:Let your curiosity go wild while conducting exciting science ex
 periments! Super Science is geared towards kindergarten through 5th grade 
 youth.
DTSTART;TZID=America/New_York:20251016T160000
DTEND;TZID=America/New_York:20251016T170000
LOCATION:174 S. Main St.\, Harrisonburg\, VA 22801 US
SUMMARY:Super Science @ Central Library
END:VEVENT
END:VCALENDAR
