BEGIN:VCALENDAR
VERSION:2.0
PRODID:-//mrlib.org//NONSGML kigkonsult.se iCalcreator 2.30.10//
CALSCALE:GREGORIAN
METHOD:PUBLISH
UID:dcb9ff0a-31ec-4beb-a3b4-194603c04b0f
X-WR-CALDESC:Browse bargain books inside Shenandoah Community Library and d
 irectly support our nonprofit mission! \n\nPrice breakdown*\n- Hardcovers:
  $2.00\n- Paperbacks: $0.50\n- Children's books: $0.25\n- DVDs: $1.00\n\n*
 Special editions may have higher pricing
X-WR-RELCALID:e85cc69657c1d54b672730ed9e88db57
X-WR-TIMEZONE:America/New_York
BEGIN:VTIMEZONE
TZID:America/New_York
BEGIN:STANDARD
TZNAME:EST
DTSTART:20241103T020000
TZOFFSETFROM:-0400
TZOFFSETTO:-0500
RDATE:20251102T020000
RDATE:20261101T020000
END:STANDARD
BEGIN:DAYLIGHT
TZNAME:EDT
DTSTART:20250309T020000
TZOFFSETFROM:-0500
TZOFFSETTO:-0400
RDATE:20260308T020000
RDATE:20270314T020000
END:DAYLIGHT
END:VTIMEZONE
BEGIN:VEVENT
UID:69985fcc-b8d1-4d61-8faf-b88ed02b3d23
DTSTAMP:20260419T191334Z
DESCRIPTION:Browse bargain books inside Shenandoah Community Library and di
 rectly support our nonprofit mission! \n\nPrice breakdown*\n- Hardcovers: 
 $2.00\n- Paperbacks: $0.50\n- Children's books: $0.25\n- DVDs: $1.00\n\n*S
 pecial editions may have higher pricing
DTSTART;TZID=America/New_York:20251016T100000
DTEND;TZID=America/New_York:20251016T180000
LOCATION:Shenandoah Community Library\, 418 S. Third Street\, Shenandoah\, 
 VA 22849 US
SUMMARY:Fall Book Sale @Shenandoah Community Library
END:VEVENT
END:VCALENDAR
