BEGIN:VCALENDAR
VERSION:2.0
PRODID:-//mrlib.org//NONSGML kigkonsult.se iCalcreator 2.30.10//
CALSCALE:GREGORIAN
METHOD:PUBLISH
UID:9d5e598f-f39d-405b-9e8c-3dfaf207139a
X-WR-CALDESC:Kids ages 4-11: learn about money and currency by playing fun 
 games!
X-WR-RELCALID:41ef370e665d3ad1fb3f7cacc95fed6a
X-WR-TIMEZONE:America/New_York
BEGIN:VTIMEZONE
TZID:America/New_York
BEGIN:STANDARD
TZNAME:EST
DTSTART:20241103T020000
TZOFFSETFROM:-0400
TZOFFSETTO:-0500
RDATE:20251102T020000
RDATE:20261101T020000
END:STANDARD
BEGIN:DAYLIGHT
TZNAME:EDT
DTSTART:20250309T020000
TZOFFSETFROM:-0500
TZOFFSETTO:-0400
RDATE:20260308T020000
RDATE:20270314T020000
END:DAYLIGHT
END:VTIMEZONE
BEGIN:VEVENT
UID:9473c56a-d3c8-43ab-91dc-31430a30f890
DTSTAMP:20260419T191403Z
DESCRIPTION:Kids ages 4-11: learn about money and currency by playing fun g
 ames!
DTSTART;TZID=America/New_York:20251018T130000
DTEND;TZID=America/New_York:20251018T140000
LOCATION:Central Library\, 174 S. Main Street\, Harrisonburg\, VA 22801 US
SUMMARY:Game Time: Thinking Money for Kids @Central Library
END:VEVENT
END:VCALENDAR
