BEGIN:VCALENDAR
VERSION:2.0
PRODID:-//mrlib.org//NONSGML kigkonsult.se iCalcreator 2.30.10//
CALSCALE:GREGORIAN
METHOD:PUBLISH
UID:87fb3d53-2bd8-48bf-b8ac-88e8d554b9f8
X-WR-CALDESC:Kids and teens (ages 5-17) can drop in to Shenandoah Community
  Library between 10 AM and 5 PM to paint pumpkins! Supplies are limited\, 
 so reserve a pumpkin by clicking the 'Register Now' button.
X-WR-RELCALID:15a7b160a63d3d04986bcf55d3eeece9
X-WR-TIMEZONE:America/New_York
BEGIN:VTIMEZONE
TZID:America/New_York
BEGIN:STANDARD
TZNAME:EST
DTSTART:20241103T020000
TZOFFSETFROM:-0400
TZOFFSETTO:-0500
RDATE:20251102T020000
RDATE:20261101T020000
END:STANDARD
BEGIN:DAYLIGHT
TZNAME:EDT
DTSTART:20250309T020000
TZOFFSETFROM:-0500
TZOFFSETTO:-0400
RDATE:20260308T020000
RDATE:20270314T020000
END:DAYLIGHT
END:VTIMEZONE
BEGIN:VEVENT
UID:2da2ff91-c257-4241-9efe-2981e187bdbd
DTSTAMP:20260419T191443Z
DESCRIPTION:Kids and teens (ages 5-17) can drop in to Shenandoah Community 
 Library between 10 AM and 5 PM to paint pumpkins! Supplies are limited\, s
 o reserve a pumpkin by clicking the 'Register Now' button.
DTSTART;TZID=America/New_York:20251021T100000
DTEND;TZID=America/New_York:20251021T170000
LOCATION:Shenandoah Community Library\, 418 S. Third Street\, Shenandoah\, 
 VA 22849 US
SUMMARY:Pumpkin Painting @Shenandoah Community Library
END:VEVENT
END:VCALENDAR
