BEGIN:VCALENDAR
VERSION:2.0
PRODID:-//mrlib.org//NONSGML kigkonsult.se iCalcreator 2.30.10//
CALSCALE:GREGORIAN
METHOD:PUBLISH
UID:12ead586-0b0c-4475-a120-2d4faf2c62e8
X-WR-CALDESC:Dogs are wonderful listeners and love to hear stories! Dogs 2 
 Read 2 is a great chance for kids in grades K-5 to practice their reading 
 skills with some wonderful and well-behaved pups. \n\n*All Dogs 2 Read 2 p
 ups are trained and certified through the Alliance of Therapy Dogs*
X-WR-RELCALID:2a56d0ace14b6a3e9fd71a104e107cd8
X-WR-TIMEZONE:America/New_York
BEGIN:VTIMEZONE
TZID:America/New_York
BEGIN:STANDARD
TZNAME:EST
DTSTART:20241103T020000
TZOFFSETFROM:-0400
TZOFFSETTO:-0500
RDATE:20251102T020000
RDATE:20261101T020000
END:STANDARD
BEGIN:DAYLIGHT
TZNAME:EDT
DTSTART:20250309T020000
TZOFFSETFROM:-0500
TZOFFSETTO:-0400
RDATE:20260308T020000
RDATE:20270314T020000
END:DAYLIGHT
END:VTIMEZONE
BEGIN:VEVENT
UID:ad2db45f-8fbd-4d76-92b2-65b78fa9cd4b
DTSTAMP:20260419T191907Z
DESCRIPTION:Dogs are wonderful listeners and love to hear stories! Dogs 2 R
 ead 2 is a great chance for kids in grades K-5 to practice their reading s
 kills with some wonderful and well-behaved pups. \n\n*All Dogs 2 Read 2 pu
 ps are trained and certified through the Alliance of Therapy Dogs*
DTSTART;TZID=America/New_York:20251023T163000
DTEND;TZID=America/New_York:20251023T173000
LOCATION:Central Library\, 174 S. Main Street\, Harrisonburg\, VA 22801 US
SUMMARY:Dogs 2 Read 2 @Central Library
END:VEVENT
END:VCALENDAR
