BEGIN:VCALENDAR
VERSION:2.0
PRODID:-//mrlib.org//NONSGML kigkonsult.se iCalcreator 2.30.10//
CALSCALE:GREGORIAN
METHOD:PUBLISH
UID:37befe4d-b296-4718-8a6c-1f2a1493a66e
X-WR-CALDESC:Stop by Village Library during Broadway's Halloweenfest for go
 odies and candy!
X-WR-RELCALID:931896172e28683ec78217c8ed2f28e7
X-WR-TIMEZONE:America/New_York
BEGIN:VTIMEZONE
TZID:America/New_York
BEGIN:STANDARD
TZNAME:EST
DTSTART:20241103T020000
TZOFFSETFROM:-0400
TZOFFSETTO:-0500
RDATE:20251102T020000
RDATE:20261101T020000
END:STANDARD
BEGIN:DAYLIGHT
TZNAME:EDT
DTSTART:20250309T020000
TZOFFSETFROM:-0500
TZOFFSETTO:-0400
RDATE:20260308T020000
RDATE:20270314T020000
END:DAYLIGHT
END:VTIMEZONE
BEGIN:VEVENT
UID:a65d3727-0d22-4b0f-a440-be8e6accb97e
DTSTAMP:20260419T191827Z
DESCRIPTION:Stop by Village Library during Broadway's Halloweenfest for goo
 dies and candy!
DTSTART;TZID=America/New_York:20251023T160000
DTEND;TZID=America/New_York:20251023T190000
LOCATION:
SUMMARY:Town of Broadway's Halloweenfest
END:VEVENT
END:VCALENDAR
