BEGIN:VCALENDAR
VERSION:2.0
PRODID:-//mrlib.org//NONSGML kigkonsult.se iCalcreator 2.30.10//
CALSCALE:GREGORIAN
METHOD:PUBLISH
UID:f0d5a6b1-ebbe-4316-bd1b-d3786342c1d0
X-WR-CALDESC:Harrisonburg Downtown Renaissance is thrilled to host it's pre
 -Halloween celebrations at Skeleton Fest! The family-friendly Festival wil
 l feature trick-or-treating\, costume contests\, Sip & Stroll\, and more a
 s the community welcomes spooky season. \n\nCentral Library in Harrisonbur
 g is welcoming all ghosts\, superheroes\, princesses\, and other costumed 
 trick-or-treaters from 1 PM to 4 PM! Kids ages 0-17 are invited to stop by
  for candy and FREE books.
X-WR-RELCALID:cf361e094f04ecb957f65f857dd51159
X-WR-TIMEZONE:America/New_York
BEGIN:VTIMEZONE
TZID:America/New_York
BEGIN:STANDARD
TZNAME:EST
DTSTART:20241103T020000
TZOFFSETFROM:-0400
TZOFFSETTO:-0500
RDATE:20251102T020000
RDATE:20261101T020000
END:STANDARD
BEGIN:DAYLIGHT
TZNAME:EDT
DTSTART:20250309T020000
TZOFFSETFROM:-0500
TZOFFSETTO:-0400
RDATE:20260308T020000
RDATE:20270314T020000
END:DAYLIGHT
END:VTIMEZONE
BEGIN:VEVENT
UID:805662d4-9188-45d9-851d-c6d5500369c3
DTSTAMP:20260419T191313Z
DESCRIPTION:Harrisonburg Downtown Renaissance is thrilled to host it's pre-
 Halloween celebrations at Skeleton Fest! The family-friendly Festival will
  feature trick-or-treating\, costume contests\, Sip & Stroll\, and more as
  the community welcomes spooky season. \n\nCentral Library in Harrisonburg
  is welcoming all ghosts\, superheroes\, princesses\, and other costumed t
 rick-or-treaters from 1 PM to 4 PM! Kids ages 0-17 are invited to stop by 
 for candy and FREE books.
DTSTART;TZID=America/New_York:20251025T130000
DTEND;TZID=America/New_York:20251025T170000
LOCATION:
SUMMARY:Skeleton Fest @Downtown Harrisonburg
END:VEVENT
END:VCALENDAR
