BEGIN:VCALENDAR
VERSION:2.0
PRODID:-//mrlib.org//NONSGML kigkonsult.se iCalcreator 2.30.10//
CALSCALE:GREGORIAN
METHOD:PUBLISH
UID:83b31e63-af84-443e-9512-ca9b4ae8e278
X-WR-CALDESC:Kids of all ages are invited to wear their most creative costu
 mes for a spoooky Story Time at the library!
X-WR-RELCALID:8f5afa9a2756846322676aec98f8e967
X-WR-TIMEZONE:America/New_York
BEGIN:VTIMEZONE
TZID:America/New_York
BEGIN:STANDARD
TZNAME:EST
DTSTART:20241103T020000
TZOFFSETFROM:-0400
TZOFFSETTO:-0500
RDATE:20251102T020000
RDATE:20261101T020000
END:STANDARD
BEGIN:DAYLIGHT
TZNAME:EDT
DTSTART:20250309T020000
TZOFFSETFROM:-0500
TZOFFSETTO:-0400
RDATE:20260308T020000
RDATE:20270314T020000
END:DAYLIGHT
END:VTIMEZONE
BEGIN:VEVENT
UID:f16abe26-1105-466e-997e-a22ea1a55894
DTSTAMP:20260419T191205Z
DESCRIPTION:Kids of all ages are invited to wear their most creative costum
 es for a spoooky Story Time at the library!
DTSTART;TZID=America/New_York:20251025T100000
DTEND;TZID=America/New_York:20251025T103000
LOCATION:Central Library\, 174 S. Main Street\, Harrisonburg\, VA 22801 US
SUMMARY:Spooky Story Time @Central Library
END:VEVENT
END:VCALENDAR
