BEGIN:VCALENDAR
VERSION:2.0
PRODID:-//mrlib.org//NONSGML kigkonsult.se iCalcreator 2.30.10//
CALSCALE:GREGORIAN
METHOD:PUBLISH
UID:b5c08576-98ca-4baf-9966-477eab87a69f
X-WR-CALDESC:A lively story time for children birth to 5 years filled with 
 stories\, songs\, and activities to help your child grow. We will actively
  use our eyes\, ears\, mouth\, hands\, and sometimes our whole bodies to p
 articipate in this fun story time!
X-WR-RELCALID:7f1a9b6de248eb261473986ea8d3c941
X-WR-TIMEZONE:America/New_York
BEGIN:VTIMEZONE
TZID:America/New_York
BEGIN:STANDARD
TZNAME:EST
DTSTART:20241103T020000
TZOFFSETFROM:-0400
TZOFFSETTO:-0500
RDATE:20251102T020000
RDATE:20261101T020000
END:STANDARD
BEGIN:DAYLIGHT
TZNAME:EDT
DTSTART:20250309T020000
TZOFFSETFROM:-0500
TZOFFSETTO:-0400
RDATE:20260308T020000
RDATE:20270314T020000
END:DAYLIGHT
END:VTIMEZONE
BEGIN:VEVENT
UID:3bdeebff-5bae-415f-8535-963b844f3e2c
DTSTAMP:20260419T191553Z
DESCRIPTION:A lively story time for children birth to 5 years filled with s
 tories\, songs\, and activities to help your child grow. We will actively 
 use our eyes\, ears\, mouth\, hands\, and sometimes our whole bodies to pa
 rticipate in this fun story time!
DTSTART;TZID=America/New_York:20251027T101500
DTEND;TZID=America/New_York:20251027T104500
LOCATION:Central Library\, 174 S. Main St.\, Harrisonburg\, VA 22801 US
SUMMARY:Stories\, Rhymes\, & Movement @ Central Library
END:VEVENT
END:VCALENDAR
