BEGIN:VCALENDAR
VERSION:2.0
PRODID:-//mrlib.org//NONSGML kigkonsult.se iCalcreator 2.30.10//
CALSCALE:GREGORIAN
METHOD:PUBLISH
UID:908d1fce-c076-4493-82c8-3cc6239593f5
X-WR-CALDESC:Kids are invited to wear their favorite costumes and enjoy Hal
 loween books at a special Story Time!
X-WR-RELCALID:8c4bf8343a37097b521bdda03c4aa2de
X-WR-TIMEZONE:America/New_York
BEGIN:VTIMEZONE
TZID:America/New_York
BEGIN:STANDARD
TZNAME:EST
DTSTART:20241103T020000
TZOFFSETFROM:-0400
TZOFFSETTO:-0500
RDATE:20251102T020000
RDATE:20261101T020000
END:STANDARD
BEGIN:DAYLIGHT
TZNAME:EDT
DTSTART:20250309T020000
TZOFFSETFROM:-0500
TZOFFSETTO:-0400
RDATE:20260308T020000
RDATE:20270314T020000
END:DAYLIGHT
END:VTIMEZONE
BEGIN:VEVENT
UID:eae9635f-79e0-4106-bb12-df3711052879
DTSTAMP:20260419T192500Z
DESCRIPTION:Kids are invited to wear their favorite costumes and enjoy Hall
 oween books at a special Story Time!
DTSTART;TZID=America/New_York:20251028T110000
DTEND;TZID=America/New_York:20251028T120000
LOCATION:Shenandoah Community Library\, 418 S. Third Street\, Shenandoah\, 
 VA 22849 US
SUMMARY:Costume Story Time @Shenandoah Community Library
END:VEVENT
END:VCALENDAR
