BEGIN:VCALENDAR
VERSION:2.0
PRODID:-//mrlib.org//NONSGML kigkonsult.se iCalcreator 2.30.10//
CALSCALE:GREGORIAN
METHOD:PUBLISH
UID:be285b3f-7378-4d63-ae93-ee4b067cc532
X-WR-CALDESC:School-age kids are invited to the library to learn about the 
 skeletal system and listen to a creeepy tale!
X-WR-RELCALID:b96f37aae8a3694c63bd369a656ac8f3
X-WR-TIMEZONE:America/New_York
BEGIN:VTIMEZONE
TZID:America/New_York
BEGIN:STANDARD
TZNAME:EST
DTSTART:20241103T020000
TZOFFSETFROM:-0400
TZOFFSETTO:-0500
RDATE:20251102T020000
RDATE:20261101T020000
END:STANDARD
BEGIN:DAYLIGHT
TZNAME:EDT
DTSTART:20250309T020000
TZOFFSETFROM:-0500
TZOFFSETTO:-0400
RDATE:20260308T020000
RDATE:20270314T020000
END:DAYLIGHT
END:VTIMEZONE
BEGIN:VEVENT
UID:4cf3721f-7480-422e-83f0-ea7e9a40962b
DTSTAMP:20260419T191335Z
DESCRIPTION:School-age kids are invited to the library to learn about the s
 keletal system and listen to a creeepy tale!
DTSTART;TZID=America/New_York:20251028T160000
DTEND;TZID=America/New_York:20251028T170000
LOCATION:Village Library\, 175 N. Main Street\, Broadway\, VA 22815 US
SUMMARY:Creepy Time @Village Library
END:VEVENT
END:VCALENDAR
