BEGIN:VCALENDAR
VERSION:2.0
PRODID:-//mrlib.org//NONSGML kigkonsult.se iCalcreator 2.30.10//
CALSCALE:GREGORIAN
METHOD:PUBLISH
UID:02a92865-ae07-4808-b2d4-798a46a2f312
X-WR-CALDESC:Kids ages 0-5 are invited to wear their favorite costumes and 
 enjoy Halloween books at a special Story Time!
X-WR-RELCALID:7f7510ef3133e66254cee9ec85d13360
X-WR-TIMEZONE:America/New_York
BEGIN:VTIMEZONE
TZID:America/New_York
BEGIN:STANDARD
TZNAME:EST
DTSTART:20241103T020000
TZOFFSETFROM:-0400
TZOFFSETTO:-0500
RDATE:20251102T020000
RDATE:20261101T020000
END:STANDARD
BEGIN:DAYLIGHT
TZNAME:EDT
DTSTART:20250309T020000
TZOFFSETFROM:-0500
TZOFFSETTO:-0400
RDATE:20260308T020000
RDATE:20270314T020000
END:DAYLIGHT
END:VTIMEZONE
BEGIN:VEVENT
UID:96ea63c7-d8ea-4a3c-9dbf-22892a2c5427
DTSTAMP:20260419T191313Z
DESCRIPTION:Kids ages 0-5 are invited to wear their favorite costumes and e
 njoy Halloween books at a special Story Time!
DTSTART;TZID=America/New_York:20251030T103000
DTEND;TZID=America/New_York:20251030T113000
LOCATION:Page Public Library\, 100 Zerkel Street\, Luray\, VA 22835 US
SUMMARY:Costume Story Time @Page Public Library
END:VEVENT
END:VCALENDAR
