BEGIN:VCALENDAR
VERSION:2.0
PRODID:-//mrlib.org//NONSGML kigkonsult.se iCalcreator 2.30.10//
CALSCALE:GREGORIAN
METHOD:PUBLISH
UID:133eefd3-ebb2-4ce8-823b-31d504e04b09
X-WR-CALDESC:Kids ages 6-11 are invited to Page Public Library to create sp
 oooky trick-or-treat bags for Halloween!
X-WR-RELCALID:e0d35e8644569e76185a5293eaee47ac
X-WR-TIMEZONE:America/New_York
BEGIN:VTIMEZONE
TZID:America/New_York
BEGIN:STANDARD
TZNAME:EST
DTSTART:20241103T020000
TZOFFSETFROM:-0400
TZOFFSETTO:-0500
RDATE:20251102T020000
RDATE:20261101T020000
END:STANDARD
BEGIN:DAYLIGHT
TZNAME:EDT
DTSTART:20250309T020000
TZOFFSETFROM:-0500
TZOFFSETTO:-0400
RDATE:20260308T020000
RDATE:20270314T020000
END:DAYLIGHT
END:VTIMEZONE
BEGIN:VEVENT
UID:7550dda1-1ecd-4d83-8170-3dc48e5cc509
DTSTAMP:20260419T191656Z
DESCRIPTION:Kids ages 6-11 are invited to Page Public Library to create spo
 ooky trick-or-treat bags for Halloween!
DTSTART;TZID=America/New_York:20251030T160000
DTEND;TZID=America/New_York:20251030T170000
LOCATION:Page Public Library\, 100 Zerkel Street\, Luray\, VA 22835 US
SUMMARY:Trick-or-Treat Craft Time @Page Public Library
END:VEVENT
END:VCALENDAR
