BEGIN:VCALENDAR
VERSION:2.0
PRODID:-//mrlib.org//NONSGML kigkonsult.se iCalcreator 2.30.10//
CALSCALE:GREGORIAN
METHOD:PUBLISH
UID:9774be0d-b7be-43d4-99e7-214867a19e75
X-WR-CALDESC:Stop by for a sweet treat at the Grottoes Branch Library!
X-WR-RELCALID:919c33f9aedea7c234f974f49523e7de
X-WR-TIMEZONE:America/New_York
BEGIN:VTIMEZONE
TZID:America/New_York
BEGIN:STANDARD
TZNAME:EST
DTSTART:20241103T020000
TZOFFSETFROM:-0400
TZOFFSETTO:-0500
RDATE:20251102T020000
RDATE:20261101T020000
END:STANDARD
BEGIN:DAYLIGHT
TZNAME:EDT
DTSTART:20250309T020000
TZOFFSETFROM:-0500
TZOFFSETTO:-0400
RDATE:20260308T020000
RDATE:20270314T020000
END:DAYLIGHT
END:VTIMEZONE
BEGIN:VEVENT
UID:042f480d-b939-4ee1-8493-d3674a3b6a83
DTSTAMP:20260419T192557Z
DESCRIPTION:Stop by for a sweet treat at the Grottoes Branch Library!
DTSTART;TZID=America/New_York:20251031T180000
DTEND;TZID=America/New_York:20251031T200000
LOCATION:601 Dogwood Ave\, Grottoes\, VA 24441 US
SUMMARY:Library Trick or Treat @ Grottoes Branch Library
END:VEVENT
END:VCALENDAR
