BEGIN:VCALENDAR
VERSION:2.0
PRODID:-//mrlib.org//NONSGML kigkonsult.se iCalcreator 2.30.10//
CALSCALE:GREGORIAN
METHOD:PUBLISH
UID:99b51130-9e72-45b3-a17d-f554a525f991
X-WR-CALDESC:Stop by Elkton Community Library during the Halloween HooDoo t
 o pick up free candy!
X-WR-RELCALID:93f6c7d6403ff6bcbd38e0af7cbcf4d4
X-WR-TIMEZONE:America/New_York
BEGIN:VTIMEZONE
TZID:America/New_York
BEGIN:STANDARD
TZNAME:EST
DTSTART:20241103T020000
TZOFFSETFROM:-0400
TZOFFSETTO:-0500
RDATE:20251102T020000
RDATE:20261101T020000
END:STANDARD
BEGIN:DAYLIGHT
TZNAME:EDT
DTSTART:20250309T020000
TZOFFSETFROM:-0500
TZOFFSETTO:-0400
RDATE:20260308T020000
RDATE:20270314T020000
END:DAYLIGHT
END:VTIMEZONE
BEGIN:VEVENT
UID:cb1e248c-68bb-4672-91b8-c02cdbb9420f
DTSTAMP:20260419T192459Z
DESCRIPTION:Stop by Elkton Community Library during the Halloween HooDoo to
  pick up free candy!
DTSTART;TZID=America/New_York:20251031T173000
DTEND;TZID=America/New_York:20251031T190000
LOCATION:Elkton Community Library\, 106 N. Terrace Avenue\, Elkton\, VA 228
 27 US
SUMMARY:Town of Elkton's Halloween HooDoo
END:VEVENT
END:VCALENDAR
