BEGIN:VCALENDAR
VERSION:2.0
PRODID:-//mrlib.org//NONSGML kigkonsult.se iCalcreator 2.30.10//
CALSCALE:GREGORIAN
METHOD:PUBLISH
UID:9341b556-7b65-43d3-b7d6-c24144e53d96
X-WR-CALDESC:Please Note: November's Dogs 2 Read 2 has been moved to Saturd
 ay the 1st because of Village Library's 50th Anniversary Celebration on Sa
 turday the 8th. After November\, Dogs 2 Read 2 will resume its 2nd Saturda
 y schedule! \n\nDogs are wonderful listeners and love to hear stories! Dog
 s 2 Read 2 is a great chance for kids in grades K-5 to practice their read
 ing skills with a wonderful and well-behaved pup. Come meet Kenna\, a cert
 ified therapy dog through the Alliance for Therapy Dogs. Kenna is a famili
 ar\, friendly face at many local schools and loves to listen to stories!
X-WR-RELCALID:7076f623e048a0ed0eec381cec6b401d
X-WR-TIMEZONE:America/New_York
BEGIN:VTIMEZONE
TZID:America/New_York
BEGIN:STANDARD
TZNAME:EST
DTSTART:20241103T020000
TZOFFSETFROM:-0400
TZOFFSETTO:-0500
RDATE:20251102T020000
RDATE:20261101T020000
END:STANDARD
BEGIN:DAYLIGHT
TZNAME:EDT
DTSTART:20250309T020000
TZOFFSETFROM:-0500
TZOFFSETTO:-0400
RDATE:20260308T020000
RDATE:20270314T020000
END:DAYLIGHT
END:VTIMEZONE
BEGIN:VEVENT
UID:b1f6f617-b5f0-4071-ba38-d1cd18fc4ddd
DTSTAMP:20260419T172713Z
DESCRIPTION:Please Note: November's Dogs 2 Read 2 has been moved to Saturda
 y the 1st because of Village Library's 50th Anniversary Celebration on Sat
 urday the 8th. After November\, Dogs 2 Read 2 will resume its 2nd Saturday
  schedule! \n\nDogs are wonderful listeners and love to hear stories! Dogs
  2 Read 2 is a great chance for kids in grades K-5 to practice their readi
 ng skills with a wonderful and well-behaved pup. Come meet Kenna\, a certi
 fied therapy dog through the Alliance for Therapy Dogs. Kenna is a familia
 r\, friendly face at many local schools and loves to listen to stories!
DTSTART;TZID=America/New_York:20251101T110000
DTEND;TZID=America/New_York:20251101T120000
LOCATION:Village Library\, 175 N. Main Street\, Broadway\, VA 22815 US
SUMMARY:Dogs 2 Read 2 @Village Library
END:VEVENT
END:VCALENDAR
