BEGIN:VCALENDAR
VERSION:2.0
PRODID:-//mrlib.org//NONSGML kigkonsult.se iCalcreator 2.30.10//
CALSCALE:GREGORIAN
METHOD:PUBLISH
UID:55c29b5a-8563-4e95-9cd3-a9aec3f32912
X-WR-CALDESC:Drop by the library and build with Keva Planks. Explore what y
 ou can build and create with these fun\, simple planks! Keva Lab is geared
  towards kindergarten through 5th grade youth.
X-WR-RELCALID:115add6cb7e7f580c1b124cba3c46940
X-WR-TIMEZONE:America/New_York
BEGIN:VTIMEZONE
TZID:America/New_York
BEGIN:STANDARD
TZNAME:EST
DTSTART:20251102T020000
TZOFFSETFROM:-0400
TZOFFSETTO:-0500
RDATE:20261101T020000
END:STANDARD
BEGIN:DAYLIGHT
TZNAME:EDT
DTSTART:20250309T020000
TZOFFSETFROM:-0500
TZOFFSETTO:-0400
RDATE:20260308T020000
RDATE:20270314T020000
END:DAYLIGHT
END:VTIMEZONE
BEGIN:VEVENT
UID:dbcc0a03-539a-48e4-96c6-89f2993c8f0a
DTSTAMP:20260419T173519Z
DESCRIPTION:Drop by the library and build with Keva Planks. Explore what yo
 u can build and create with these fun\, simple planks! Keva Lab is geared 
 towards kindergarten through 5th grade youth.
DTSTART;TZID=America/New_York:20251106T160000
DTEND;TZID=America/New_York:20251106T170000
LOCATION:601 Dogwood Ave\, Grottoes\, VA 24441 US
SUMMARY:Keva Lab @ Grottoes Branch Library
END:VEVENT
END:VCALENDAR
