BEGIN:VCALENDAR
VERSION:2.0
PRODID:-//mrlib.org//NONSGML kigkonsult.se iCalcreator 2.30.10//
CALSCALE:GREGORIAN
METHOD:PUBLISH
UID:fc544453-3aee-4bd5-8de9-975b668c4210
X-WR-CALDESC:Celebrate 50 years of Village Library with cake\, punch and co
 ffee\, live music\, and kids activities! Drop in to view historical photo 
 displays and share library stories among friends.  \n\nDo you have a story
  you'd like to share about Village Library or any MRL branch? Set up an ap
 pointment at the link below - we may include it in our Century of Stories 
 oral history project for MRL's 2028 centennial celebration!
X-WR-RELCALID:5ab6bbfdb233cac3ee0c8acf69deaf18
X-WR-TIMEZONE:America/New_York
BEGIN:VTIMEZONE
TZID:America/New_York
BEGIN:STANDARD
TZNAME:EST
DTSTART:20251102T020000
TZOFFSETFROM:-0400
TZOFFSETTO:-0500
RDATE:20261101T020000
END:STANDARD
BEGIN:DAYLIGHT
TZNAME:EDT
DTSTART:20250309T020000
TZOFFSETFROM:-0500
TZOFFSETTO:-0400
RDATE:20260308T020000
RDATE:20270314T020000
END:DAYLIGHT
END:VTIMEZONE
BEGIN:VEVENT
UID:a5a5ba5d-d488-4e8f-9d97-15fa145d8950
DTSTAMP:20260419T172145Z
DESCRIPTION:Celebrate 50 years of Village Library with cake\, punch and cof
 fee\, live music\, and kids activities! Drop in to view historical photo d
 isplays and share library stories among friends.  \n\nDo you have a story 
 you'd like to share about Village Library or any MRL branch? Set up an app
 ointment at the link below - we may include it in our Century of Stories o
 ral history project for MRL's 2028 centennial celebration!
DTSTART;TZID=America/New_York:20251108T110000
DTEND;TZID=America/New_York:20251108T130000
LOCATION:Village Library\, 175 N. Main Street\, Broadway\, VA 22815 US
SUMMARY:50th Anniversary Celebration @Village Library
END:VEVENT
END:VCALENDAR
