BEGIN:VCALENDAR
VERSION:2.0
PRODID:-//mrlib.org//NONSGML kigkonsult.se iCalcreator 2.30.10//
CALSCALE:GREGORIAN
METHOD:PUBLISH
UID:d1138ea9-4fa8-4e5a-8b6b-e6076e0dac6e
X-WR-CALDESC:Celebrate all fandoms\, nerd hobbies\, and general geekery at 
 Fandom Fest! Enjoy a fun-filled day with cool local vendors\, an informati
 ve discussion panel\, and an awesome Cosplay Contest. All ages are welcome
 \, so dress up and swing by the library to celebrate your favorite books a
 nd media!\n\nIf you want to enter the Cosplay Contest\, click the registra
 tion button in the top right corner. Contestants can drop in any time betw
 een 10 AM and 3 PM to take a picture for our judges! The winners will be a
 nnounced in the newsletter.*\n\nAwesome vendors and guests you can expect 
 to see at Fandom Fest include:\n- The Secret Lair Comics\n- Horizon Gifts 
 & Board Games\n- Rocktown Games\n- Bee Swatosh\, author/artist of the comi
 c 'The Lady of Gollerus'\n- Titan Forge\n- Watchtower Games\n- Eagle Valia
 nt Brosi\, artist/author of the comic 'Black Cohosh'\n\nSchedule of events
 :\n10:00 AM - Fandom Fest and the Cosplay Contest begin\n11:00 AM  - Panel
  Session I: Graphic Novels and Comic Books (registration link below)\nCANC
 ELLED DUE TO UNFORESEEN CIRCUMSTANCES - 1:00 PM    - Panel Session II: Sta
 rting a Gaming Company\n3:00 PM   - End of Fandom Fest and the Cosplay Con
 test\n\nCostume contest prizes:\n- Children's winners: gift cards to Books
 -A-Million\n- Teen and adult winners: gift cards to Watchtower Games\, Roc
 ktown Games\, Horizon Gifts\, and The Secret Lair\, OR a D&D gift bag (win
 ners will choose one option each)\n\n*Please note: Costumes must be approp
 riate for the library. If a costume includes a 'weapon' component\, it mus
 t be made out of foam\, plastic\, or cardboard and can't resemble a real w
 eapon.
X-WR-RELCALID:2dc892bfe0a0ae435fbb4e39dc5f748a
X-WR-TIMEZONE:America/New_York
BEGIN:VTIMEZONE
TZID:America/New_York
BEGIN:STANDARD
TZNAME:EST
DTSTART:20251102T020000
TZOFFSETFROM:-0400
TZOFFSETTO:-0500
RDATE:20261101T020000
END:STANDARD
BEGIN:DAYLIGHT
TZNAME:EDT
DTSTART:20250309T020000
TZOFFSETFROM:-0500
TZOFFSETTO:-0400
RDATE:20260308T020000
RDATE:20270314T020000
END:DAYLIGHT
END:VTIMEZONE
BEGIN:VEVENT
UID:62a3ac53-c845-4226-82d7-48ea756f2ba8
DTSTAMP:20260419T171916Z
DESCRIPTION:Celebrate all fandoms\, nerd hobbies\, and general geekery at F
 andom Fest! Enjoy a fun-filled day with cool local vendors\, an informativ
 e discussion panel\, and an awesome Cosplay Contest. All ages are welcome\
 , so dress up and swing by the library to celebrate your favorite books an
 d media!\n\nIf you want to enter the Cosplay Contest\, click the registrat
 ion button in the top right corner. Contestants can drop in any time betwe
 en 10 AM and 3 PM to take a picture for our judges! The winners will be an
 nounced in the newsletter.*\n\nAwesome vendors and guests you can expect t
 o see at Fandom Fest include:\n- The Secret Lair Comics\n- Horizon Gifts &
  Board Games\n- Rocktown Games\n- Bee Swatosh\, author/artist of the comic
  'The Lady of Gollerus'\n- Titan Forge\n- Watchtower Games\n- Eagle Valian
 t Brosi\, artist/author of the comic 'Black Cohosh'\n\nSchedule of events:
 \n10:00 AM - Fandom Fest and the Cosplay Contest begin\n11:00 AM  - Panel 
 Session I: Graphic Novels and Comic Books (registration link below)\nCANCE
 LLED DUE TO UNFORESEEN CIRCUMSTANCES - 1:00 PM    - Panel Session II: Star
 ting a Gaming Company\n3:00 PM   - End of Fandom Fest and the Cosplay Cont
 est\n\nCostume contest prizes:\n- Children's winners: gift cards to Books-
 A-Million\n- Teen and adult winners: gift cards to Watchtower Games\, Rock
 town Games\, Horizon Gifts\, and The Secret Lair\, OR a D&D gift bag (winn
 ers will choose one option each)\n\n*Please note: Costumes must be appropr
 iate for the library. If a costume includes a 'weapon' component\, it must
  be made out of foam\, plastic\, or cardboard and can't resemble a real we
 apon.
DTSTART;TZID=America/New_York:20251115T100000
DTEND;TZID=America/New_York:20251115T150000
LOCATION:Central Library\, 174 S. Main Street\, Harrisonburg\, VA 22801 US
SUMMARY:Fandom Fest @Central Library
END:VEVENT
END:VCALENDAR
