BEGIN:VCALENDAR
VERSION:2.0
PRODID:-//mrlib.org//NONSGML kigkonsult.se iCalcreator 2.30.10//
CALSCALE:GREGORIAN
METHOD:PUBLISH
UID:3c7a0d5d-d669-4f00-89f4-916330ed4aa6
X-WR-CALDESC:Let your imagination soar and develop engineering skills while
  building with LEGO blocks. LEGO Club is geared towards kindergarten throu
 gh 5th grade youth.
X-WR-RELCALID:c3ee912ef78e55510846b76c950d7d3f
X-WR-TIMEZONE:America/New_York
BEGIN:VTIMEZONE
TZID:America/New_York
BEGIN:STANDARD
TZNAME:EST
DTSTART:20251102T020000
TZOFFSETFROM:-0400
TZOFFSETTO:-0500
RDATE:20261101T020000
END:STANDARD
BEGIN:DAYLIGHT
TZNAME:EDT
DTSTART:20250309T020000
TZOFFSETFROM:-0500
TZOFFSETTO:-0400
RDATE:20260308T020000
RDATE:20270314T020000
END:DAYLIGHT
END:VTIMEZONE
BEGIN:VEVENT
UID:2df43ef2-fc26-4d36-a689-490c35507909
DTSTAMP:20260419T174154Z
DESCRIPTION:Let your imagination soar and develop engineering skills while 
 building with LEGO blocks. LEGO Club is geared towards kindergarten throug
 h 5th grade youth.
DTSTART;TZID=America/New_York:20251120T160000
DTEND;TZID=America/New_York:20251120T170000
LOCATION:601 Dogwood Ave\, Grottoes\, VA 24441 US
SUMMARY:LEGO Club @ Grottoes Branch Library
END:VEVENT
END:VCALENDAR
