BEGIN:VCALENDAR
VERSION:2.0
PRODID:-//mrlib.org//NONSGML kigkonsult.se iCalcreator 2.30.10//
CALSCALE:GREGORIAN
METHOD:PUBLISH
UID:0d4b9cfb-f88c-4e82-9aa2-69918a3944b9
X-WR-CALDESC:Kids ages 6-11 can join Miss Stephani at Shenandoah Community 
 Library to create beautiful jewelry\, using just beads and wire!
X-WR-RELCALID:1ece4deda593e87d873198b98f71c8df
X-WR-TIMEZONE:America/New_York
BEGIN:VTIMEZONE
TZID:America/New_York
BEGIN:STANDARD
TZNAME:EST
DTSTART:20251102T020000
TZOFFSETFROM:-0400
TZOFFSETTO:-0500
RDATE:20261101T020000
END:STANDARD
BEGIN:DAYLIGHT
TZNAME:EDT
DTSTART:20250309T020000
TZOFFSETFROM:-0500
TZOFFSETTO:-0400
RDATE:20260308T020000
RDATE:20270314T020000
END:DAYLIGHT
END:VTIMEZONE
BEGIN:VEVENT
UID:86c34106-31ea-4459-97f9-da6109563bac
DTSTAMP:20260419T172133Z
DESCRIPTION:Kids ages 6-11 can join Miss Stephani at Shenandoah Community L
 ibrary to create beautiful jewelry\, using just beads and wire!
DTSTART;TZID=America/New_York:20251120T160000
DTEND;TZID=America/New_York:20251120T170000
LOCATION:Shenandoah Community Library\, 418 S. Third Street\, Shenandoah\, 
 VA 22849 US
SUMMARY:Jewelry Making @Shenandoah Community Library
END:VEVENT
END:VCALENDAR
