BEGIN:VCALENDAR
VERSION:2.0
PRODID:-//mrlib.org//NONSGML kigkonsult.se iCalcreator 2.30.10//
CALSCALE:GREGORIAN
METHOD:PUBLISH
UID:29c3e252-fd27-486a-8792-f6d7a4ab7e7b
X-WR-CALDESC:New parents and their babies are invited to Central Library to
  meet experts from the Brookhaven Midwifery and Natural Birth Center! Disc
 over a world of support\, meet other new parents\, share experiences and c
 oncerns\, and learn about a wide variety of opportunities and resources. P
 LUS\, if you bring your babies\, they'll get some FREE books!
X-WR-RELCALID:d7e303e5d5b32a14ec5ec3fcc4e5779d
X-WR-TIMEZONE:America/New_York
BEGIN:VTIMEZONE
TZID:America/New_York
BEGIN:STANDARD
TZNAME:EST
DTSTART:20251102T020000
TZOFFSETFROM:-0400
TZOFFSETTO:-0500
RDATE:20261101T020000
END:STANDARD
BEGIN:DAYLIGHT
TZNAME:EDT
DTSTART:20250309T020000
TZOFFSETFROM:-0500
TZOFFSETTO:-0400
RDATE:20260308T020000
RDATE:20270314T020000
END:DAYLIGHT
END:VTIMEZONE
BEGIN:VEVENT
UID:caeb967d-c613-45fe-a3e8-6adfd8a6a654
DTSTAMP:20260419T171959Z
DESCRIPTION:New parents and their babies are invited to Central Library to 
 meet experts from the Brookhaven Midwifery and Natural Birth Center! Disco
 ver a world of support\, meet other new parents\, share experiences and co
 ncerns\, and learn about a wide variety of opportunities and resources. PL
 US\, if you bring your babies\, they'll get some FREE books!
DTSTART;TZID=America/New_York:20251122T110000
DTEND;TZID=America/New_York:20251122T120000
LOCATION:Central Library\, 174 S. Main Street\, Harrisonburg\, VA 22801 US
SUMMARY:Birth\, Babies\, and Books @Central Library
END:VEVENT
END:VCALENDAR
