BEGIN:VCALENDAR
VERSION:2.0
PRODID:-//mrlib.org//NONSGML kigkonsult.se iCalcreator 2.30.10//
CALSCALE:GREGORIAN
METHOD:PUBLISH
UID:b7f91b49-820d-43c9-8a91-189f92820f7a
X-WR-CALDESC:A lively story time for children birth to 5 years filled with 
 stories\, songs\, and activities to help your child grow. We will actively
  use our eyes\, ears\, mouth\, hands\, and sometimes our whole bodies to p
 articipate in this fun story time!
X-WR-RELCALID:6993c9150a4823e33593e2c36cdb82e7
X-WR-TIMEZONE:America/New_York
BEGIN:VTIMEZONE
TZID:America/New_York
BEGIN:STANDARD
TZNAME:EST
DTSTART:20251102T020000
TZOFFSETFROM:-0400
TZOFFSETTO:-0500
RDATE:20261101T020000
END:STANDARD
BEGIN:DAYLIGHT
TZNAME:EDT
DTSTART:20250309T020000
TZOFFSETFROM:-0500
TZOFFSETTO:-0400
RDATE:20260308T020000
RDATE:20270314T020000
END:DAYLIGHT
END:VTIMEZONE
BEGIN:VEVENT
UID:60a2fca0-1410-4dc4-9b7f-f6a77ad7c8b8
DTSTAMP:20260419T172618Z
DESCRIPTION:A lively story time for children birth to 5 years filled with s
 tories\, songs\, and activities to help your child grow. We will actively 
 use our eyes\, ears\, mouth\, hands\, and sometimes our whole bodies to pa
 rticipate in this fun story time!
DTSTART;TZID=America/New_York:20251124T093000
DTEND;TZID=America/New_York:20251124T100000
LOCATION:Central Library\, 174 S. Main St.\, Harrisonburg\, VA 22801 US
SUMMARY:Stories\, Rhymes\, & Movement @ Central Library
END:VEVENT
END:VCALENDAR
