BEGIN:VCALENDAR
VERSION:2.0
PRODID:-//mrlib.org//NONSGML kigkonsult.se iCalcreator 2.30.10//
CALSCALE:GREGORIAN
METHOD:PUBLISH
UID:f6da2580-a263-4f98-bd15-71b14c3147d7
X-WR-CALDESC:Dogs are wonderful listeners and love to hear stories! Dogs 2 
 Read 2 is a great chance for kids in grades K-5 to practice their reading 
 skills with Timber\, a wonderful and well-behaved pup. \n\nJoin us again o
 n Wednesday\, December 17th at 4:00 PM! Starting in January 2026\, Dogs 2 
 Read 2 will return to its regular 4th Wednesday schedule. \n\n*All Dogs 2 
 Read 2 pups are trained and certified through the Alliance of Therapy Dogs
 *
X-WR-RELCALID:e5524fca9da5e24b3a2c48c01572bc07
X-WR-TIMEZONE:America/New_York
BEGIN:VTIMEZONE
TZID:America/New_York
BEGIN:STANDARD
TZNAME:EST
DTSTART:20251102T020000
TZOFFSETFROM:-0400
TZOFFSETTO:-0500
RDATE:20261101T020000
END:STANDARD
BEGIN:DAYLIGHT
TZNAME:EDT
DTSTART:20250309T020000
TZOFFSETFROM:-0500
TZOFFSETTO:-0400
RDATE:20260308T020000
RDATE:20270314T020000
END:DAYLIGHT
END:VTIMEZONE
BEGIN:VEVENT
UID:61cdebfa-6593-4be0-aa98-9cf1bfd3bfe3
DTSTAMP:20260419T172143Z
DESCRIPTION:Dogs are wonderful listeners and love to hear stories! Dogs 2 R
 ead 2 is a great chance for kids in grades K-5 to practice their reading s
 kills with Timber\, a wonderful and well-behaved pup. \n\nJoin us again on
  Wednesday\, December 17th at 4:00 PM! Starting in January 2026\, Dogs 2 R
 ead 2 will return to its regular 4th Wednesday schedule. \n\n*All Dogs 2 R
 ead 2 pups are trained and certified through the Alliance of Therapy Dogs*
DTSTART;TZID=America/New_York:20251124T160000
DTEND;TZID=America/New_York:20251124T170000
LOCATION:Elkton Community Library\, 106 N. Terrace Avenue\, Elkton\, VA 228
 27 US
SUMMARY:Dogs 2 Read 2 @Elkton Community Library
END:VEVENT
END:VCALENDAR
