BEGIN:VCALENDAR
VERSION:2.0
PRODID:-//mrlib.org//NONSGML kigkonsult.se iCalcreator 2.30.10//
CALSCALE:GREGORIAN
METHOD:PUBLISH
UID:29a3870d-487a-4836-a31a-29e22f23b7e1
X-WR-CALDESC:Kids ages 0-5 can enjoy a special Story Time full of thankfuln
 ess and turkey crafts!
X-WR-RELCALID:13ed89a098d94cca66d708210f59df39
X-WR-TIMEZONE:America/New_York
BEGIN:VTIMEZONE
TZID:America/New_York
BEGIN:STANDARD
TZNAME:EST
DTSTART:20251102T020000
TZOFFSETFROM:-0400
TZOFFSETTO:-0500
RDATE:20261101T020000
END:STANDARD
BEGIN:DAYLIGHT
TZNAME:EDT
DTSTART:20250309T020000
TZOFFSETFROM:-0500
TZOFFSETTO:-0400
RDATE:20260308T020000
RDATE:20270314T020000
END:DAYLIGHT
END:VTIMEZONE
BEGIN:VEVENT
UID:6b95c842-6298-41cc-a63e-9fe240d13f27
DTSTAMP:20260419T174143Z
DESCRIPTION:Kids ages 0-5 can enjoy a special Story Time full of thankfulne
 ss and turkey crafts!
DTSTART;TZID=America/New_York:20251125T110000
DTEND;TZID=America/New_York:20251125T120000
LOCATION:Shenandoah Community Library\, 418 S. Third Street\, Shenandoah\, 
 VA 22849 US
SUMMARY:Thankful Turkey Story Time @Shenandoah Community Library
END:VEVENT
END:VCALENDAR
