BEGIN:VCALENDAR
VERSION:2.0
PRODID:-//mrlib.org//NONSGML kigkonsult.se iCalcreator 2.30.10//
CALSCALE:GREGORIAN
METHOD:PUBLISH
UID:0952bb28-28c0-45b1-8390-889bf1e31e7a
X-WR-CALDESC:Children of all ages: join us for stories and songs that promo
 te early literacy development.
X-WR-RELCALID:c249afc43628e25d765e2d4d4e6424bc
X-WR-TIMEZONE:America/New_York
BEGIN:VTIMEZONE
TZID:America/New_York
BEGIN:STANDARD
TZNAME:EST
DTSTART:20251102T020000
TZOFFSETFROM:-0400
TZOFFSETTO:-0500
RDATE:20261101T020000
END:STANDARD
BEGIN:DAYLIGHT
TZNAME:EDT
DTSTART:20250309T020000
TZOFFSETFROM:-0500
TZOFFSETTO:-0400
RDATE:20260308T020000
RDATE:20270314T020000
END:DAYLIGHT
END:VTIMEZONE
BEGIN:VEVENT
UID:4cba65a0-8b9a-4a43-a291-17701e73d997
DTSTAMP:20260419T161212Z
DESCRIPTION:Children of all ages: join us for stories and songs that promot
 e early literacy development.
DTSTART;TZID=America/New_York:20251201T103000
DTEND;TZID=America/New_York:20251201T110000
LOCATION:Elkton Community Library\, 106 North Terrace Avenue\, Elkton\, VA 
 22827 US
SUMMARY:Fantastic Family Fun @Elkton Community Library
END:VEVENT
END:VCALENDAR
