BEGIN:VCALENDAR
VERSION:2.0
PRODID:-//mrlib.org//NONSGML kigkonsult.se iCalcreator 2.30.10//
CALSCALE:GREGORIAN
METHOD:PUBLISH
UID:d4112298-587e-464e-a77c-2d61cccaf526
X-WR-CALDESC:Children of all ages: join us for stories and songs that promo
 te early literacy development!
X-WR-RELCALID:cc21192e6d1471bbda76da4aa45ecf9e
X-WR-TIMEZONE:America/New_York
BEGIN:VTIMEZONE
TZID:America/New_York
BEGIN:STANDARD
TZNAME:EST
DTSTART:20251102T020000
TZOFFSETFROM:-0400
TZOFFSETTO:-0500
RDATE:20261101T020000
END:STANDARD
BEGIN:DAYLIGHT
TZNAME:EDT
DTSTART:20250309T020000
TZOFFSETFROM:-0500
TZOFFSETTO:-0400
RDATE:20260308T020000
RDATE:20270314T020000
END:DAYLIGHT
END:VTIMEZONE
BEGIN:VEVENT
UID:f44df561-d0b9-4a4d-8e1f-ff8ea770cb15
DTSTAMP:20260419T161357Z
DESCRIPTION:Children of all ages: join us for stories and songs that promot
 e early literacy development!
DTSTART;TZID=America/New_York:20251202T110000
DTEND;TZID=America/New_York:20251202T113000
LOCATION:Shenandoah Community Library\, 418 S. Third Street\, Shenandoah\, 
 VA 22849 US
SUMMARY:Fantastic Family Fun @Shenandoah Community Library
END:VEVENT
END:VCALENDAR
