BEGIN:VCALENDAR
VERSION:2.0
PRODID:-//mrlib.org//NONSGML kigkonsult.se iCalcreator 2.30.10//
CALSCALE:GREGORIAN
METHOD:PUBLISH
UID:bc59fd14-836e-450a-9825-984973b28c44
X-WR-CALDESC:Join us for tabletop games\, including chess\, Jenga\, cards\,
  and more! If your child is interested in playing chess\, we'll have a che
 ss expert available to teach kids of all skill levels and organize friendl
 y competitions.
X-WR-RELCALID:bfe5dd9bc06f39734273400c5f1abf62
X-WR-TIMEZONE:America/New_York
BEGIN:VTIMEZONE
TZID:America/New_York
BEGIN:STANDARD
TZNAME:EST
DTSTART:20251102T020000
TZOFFSETFROM:-0400
TZOFFSETTO:-0500
RDATE:20261101T020000
END:STANDARD
BEGIN:DAYLIGHT
TZNAME:EDT
DTSTART:20250309T020000
TZOFFSETFROM:-0500
TZOFFSETTO:-0400
RDATE:20260308T020000
RDATE:20270314T020000
END:DAYLIGHT
END:VTIMEZONE
BEGIN:VEVENT
UID:06d6707a-2657-4b00-b1fb-087f3cb212a3
DTSTAMP:20260419T154301Z
DESCRIPTION:Join us for tabletop games\, including chess\, Jenga\, cards\, 
 and more! If your child is interested in playing chess\, we'll have a ches
 s expert available to teach kids of all skill levels and organize friendly
  competitions.
DTSTART;TZID=America/New_York:20251202T140000
DTEND;TZID=America/New_York:20251202T173000
LOCATION:North River Library\, 118 Mt. Crawford Avenue\, Bridgewater\, VA 2
 2812 US
SUMMARY:Library's Got Game @North River Library
END:VEVENT
END:VCALENDAR
