BEGIN:VCALENDAR
VERSION:2.0
PRODID:-//mrlib.org//NONSGML kigkonsult.se iCalcreator 2.30.10//
CALSCALE:GREGORIAN
METHOD:PUBLISH
UID:0c74bc70-2a93-432c-abc4-60fa550ca412
X-WR-CALDESC:Children of all ages: enjoy stories\, music\, movement\, conve
 rsation\, learning\, and fun! \n
X-WR-RELCALID:154901a38327d2b5d08fbfddb92d6436
X-WR-TIMEZONE:America/New_York
BEGIN:VTIMEZONE
TZID:America/New_York
BEGIN:STANDARD
TZNAME:EST
DTSTART:20251102T020000
TZOFFSETFROM:-0400
TZOFFSETTO:-0500
RDATE:20261101T020000
END:STANDARD
BEGIN:DAYLIGHT
TZNAME:EDT
DTSTART:20250309T020000
TZOFFSETFROM:-0500
TZOFFSETTO:-0400
RDATE:20260308T020000
RDATE:20270314T020000
END:DAYLIGHT
END:VTIMEZONE
BEGIN:VEVENT
UID:1ec1ee16-1c04-4f75-8dbe-06660a9bede4
DTSTAMP:20260419T160900Z
DESCRIPTION:Children of all ages: enjoy stories\, music\, movement\, conver
 sation\, learning\, and fun! \n
DTSTART;TZID=America/New_York:20251203T100000
DTEND;TZID=America/New_York:20251203T103000
LOCATION:Grottoes Branch Library\, 601 Dogwood Avenue\, Grottoes\, VA 24441
  US
SUMMARY:CircleTime @Grottoes Branch Library
END:VEVENT
END:VCALENDAR
