BEGIN:VCALENDAR
VERSION:2.0
PRODID:-//mrlib.org//NONSGML kigkonsult.se iCalcreator 2.30.10//
CALSCALE:GREGORIAN
METHOD:PUBLISH
UID:5423b3e2-3631-41e5-b804-b801cb3a37d6
X-WR-CALDESC:Are you going to Winter Wonderfest on Saturday\, December 6th?
  Stop by Central Library's Book Sale and directly support our nonprofit mi
 ssion! \n\nThursday: 10AM-6PM\nFriday: Noon - 3PM\nSaturday: Noon- 3PM\n\n
 Adult Books $1 each\; children's titles $.25 each - cash and credit card a
 ccepted.
X-WR-RELCALID:a39f4efd876c31b116889bce2e261d89
X-WR-TIMEZONE:America/New_York
BEGIN:VTIMEZONE
TZID:America/New_York
BEGIN:STANDARD
TZNAME:EST
DTSTART:20251102T020000
TZOFFSETFROM:-0400
TZOFFSETTO:-0500
RDATE:20261101T020000
END:STANDARD
BEGIN:DAYLIGHT
TZNAME:EDT
DTSTART:20250309T020000
TZOFFSETFROM:-0500
TZOFFSETTO:-0400
RDATE:20260308T020000
RDATE:20270314T020000
END:DAYLIGHT
END:VTIMEZONE
BEGIN:VEVENT
UID:f6158ace-dd96-43f3-857a-4534c13779cd
DTSTAMP:20260419T154154Z
DESCRIPTION:Are you going to Winter Wonderfest on Saturday\, December 6th? 
 Stop by Central Library's Book Sale and directly support our nonprofit mis
 sion! \n\nThursday: 10AM-6PM\nFriday: Noon - 3PM\nSaturday: Noon- 3PM\n\nA
 dult Books $1 each\; children's titles $.25 each - cash and credit card ac
 cepted.
DTSTART;TZID=America/New_York:20251204T060000
DTEND;TZID=America/New_York:20251206T060001
LOCATION:Central Library\, 174 S. Main Street\, Harrisonburg\, VA 22801 US
SUMMARY:Book Sale @ Central Library
END:VEVENT
END:VCALENDAR
