BEGIN:VCALENDAR
VERSION:2.0
PRODID:-//mrlib.org//NONSGML kigkonsult.se iCalcreator 2.30.10//
CALSCALE:GREGORIAN
METHOD:PUBLISH
UID:07e41d3c-dbb2-4dae-b327-3d5e49188eca
X-WR-CALDESC:You're invited to celebrate six decades of community and conne
 ction at Elkton Community Library's Holiday Open House! Bring the whole fa
 mily for an evening of festive fun. Enjoy our hot chocolate and candy bar\
 , play holiday games\, get creative with seasonal crafts\, and join the ki
 ds on a scavenger hunt! \n\nDo you have a story you'd like to share about 
 Elkton Community Library or any MRL branch? Set up an appointment at the l
 ink below - we may include it in our Century of Stories oral history proje
 ct for MRL's 2028 centennial celebration!
X-WR-RELCALID:853fda6f388e31e24ebcf40afcfecff0
X-WR-TIMEZONE:America/New_York
BEGIN:VTIMEZONE
TZID:America/New_York
BEGIN:STANDARD
TZNAME:EST
DTSTART:20251102T020000
TZOFFSETFROM:-0400
TZOFFSETTO:-0500
RDATE:20261101T020000
END:STANDARD
BEGIN:DAYLIGHT
TZNAME:EDT
DTSTART:20250309T020000
TZOFFSETFROM:-0500
TZOFFSETTO:-0400
RDATE:20260308T020000
RDATE:20270314T020000
END:DAYLIGHT
END:VTIMEZONE
BEGIN:VEVENT
UID:38ed374e-3a7d-439b-a9e8-831cf7305802
DTSTAMP:20260419T160426Z
DESCRIPTION:You're invited to celebrate six decades of community and connec
 tion at Elkton Community Library's Holiday Open House! Bring the whole fam
 ily for an evening of festive fun. Enjoy our hot chocolate and candy bar\,
  play holiday games\, get creative with seasonal crafts\, and join the kid
 s on a scavenger hunt! \n\nDo you have a story you'd like to share about E
 lkton Community Library or any MRL branch? Set up an appointment at the li
 nk below - we may include it in our Century of Stories oral history projec
 t for MRL's 2028 centennial celebration!
DTSTART;TZID=America/New_York:20251204T160000
DTEND;TZID=America/New_York:20251204T180000
LOCATION:Elkton Community Library\, 106 N. Terrace Avenue\, Elkton\, VA 228
 27 US
SUMMARY:Cheers to 60 Years @Elkton Community Library
END:VEVENT
END:VCALENDAR
