BEGIN:VCALENDAR
VERSION:2.0
PRODID:-//mrlib.org//NONSGML kigkonsult.se iCalcreator 2.30.10//
CALSCALE:GREGORIAN
METHOD:PUBLISH
UID:b16924a8-5fbe-41c5-a1e0-f33a6b5228ae
X-WR-CALDESC:Stop by Santa's Workshop (Page Public Library) during the Holi
 day Festival for kids crafts!\n\nAll aboard for an evening of holiday chee
 r!\n- Pictures with Santa\n- Festive treats\n- S'mores\n- Barrel train rid
 e\n- Live holiday music\n- Holiday vendor market
X-WR-RELCALID:da5f4b09938985e70ade46fa740198eb
X-WR-TIMEZONE:America/New_York
BEGIN:VTIMEZONE
TZID:America/New_York
BEGIN:STANDARD
TZNAME:EST
DTSTART:20251102T020000
TZOFFSETFROM:-0400
TZOFFSETTO:-0500
RDATE:20261101T020000
END:STANDARD
BEGIN:DAYLIGHT
TZNAME:EDT
DTSTART:20250309T020000
TZOFFSETFROM:-0500
TZOFFSETTO:-0400
RDATE:20260308T020000
RDATE:20270314T020000
END:DAYLIGHT
END:VTIMEZONE
BEGIN:VEVENT
UID:4ad8fff9-83b2-476a-bcb9-a5646b8250a3
DTSTAMP:20260419T161516Z
DESCRIPTION:Stop by Santa's Workshop (Page Public Library) during the Holid
 ay Festival for kids crafts!\n\nAll aboard for an evening of holiday cheer
 !\n- Pictures with Santa\n- Festive treats\n- S'mores\n- Barrel train ride
 \n- Live holiday music\n- Holiday vendor market
DTSTART;TZID=America/New_York:20251205T160000
DTEND;TZID=America/New_York:20251205T200000
LOCATION:Luray-Page County Chamber of Commerce\, 18 Campbell Street\, Luray
 \, VA 22835 US
SUMMARY:Luray-Page County Chamber of Commerce Holiday Festival
END:VEVENT
END:VCALENDAR
