BEGIN:VCALENDAR
VERSION:2.0
PRODID:-//mrlib.org//NONSGML kigkonsult.se iCalcreator 2.30.10//
CALSCALE:GREGORIAN
METHOD:PUBLISH
UID:dab165e9-d045-49c4-a694-5cfe49377a13
X-WR-CALDESC:The City of Harrisonburg is bringing back its Holiday Parade a
 s a part of Harrisonburg Downtown Renaissance's Winter Wonderfest! The the
 me is Gingerbread Dreams and Sugar Plum Scenes. Keep an eye out for Massan
 utten Regional Library's float!
X-WR-RELCALID:b36e7e2cf518e80847acc3575510e90b
X-WR-TIMEZONE:America/New_York
BEGIN:VTIMEZONE
TZID:America/New_York
BEGIN:STANDARD
TZNAME:EST
DTSTART:20251102T020000
TZOFFSETFROM:-0400
TZOFFSETTO:-0500
RDATE:20261101T020000
END:STANDARD
BEGIN:DAYLIGHT
TZNAME:EDT
DTSTART:20250309T020000
TZOFFSETFROM:-0500
TZOFFSETTO:-0400
RDATE:20260308T020000
RDATE:20270314T020000
END:DAYLIGHT
END:VTIMEZONE
BEGIN:VEVENT
UID:c1c3daa4-a0c0-4934-b1f8-f9ce478d1d45
DTSTAMP:20260419T155724Z
DESCRIPTION:The City of Harrisonburg is bringing back its Holiday Parade as
  a part of Harrisonburg Downtown Renaissance's Winter Wonderfest! The them
 e is Gingerbread Dreams and Sugar Plum Scenes. Keep an eye out for Massanu
 tten Regional Library's float!
DTSTART;TZID=America/New_York:20251206T190000
DTEND;TZID=America/New_York:20251206T203000
LOCATION:Rockingham County Office Building\, 20 E Gay St\, Harrisonburg\, V
 A 22802 US
SUMMARY:Holiday Parade @Downtown Harrisonburg
END:VEVENT
END:VCALENDAR
