BEGIN:VCALENDAR
VERSION:2.0
PRODID:-//mrlib.org//NONSGML kigkonsult.se iCalcreator 2.30.10//
CALSCALE:GREGORIAN
METHOD:PUBLISH
UID:59f172cb-72b1-409f-b957-44669cd85dca
X-WR-CALDESC:Kids (ages 4+) can put their favorite pajamas on and drop in a
 ny time between 11 AM and 1 PM to celebrate the Polar Express! Design trai
 n layouts with fun sets and enjoy relaxing train-themed activities.
X-WR-RELCALID:2c5caa5818faf0604c6d58666f6883dd
X-WR-TIMEZONE:America/New_York
BEGIN:VTIMEZONE
TZID:America/New_York
BEGIN:STANDARD
TZNAME:EST
DTSTART:20251102T020000
TZOFFSETFROM:-0400
TZOFFSETTO:-0500
RDATE:20261101T020000
END:STANDARD
BEGIN:DAYLIGHT
TZNAME:EDT
DTSTART:20250309T020000
TZOFFSETFROM:-0500
TZOFFSETTO:-0400
RDATE:20260308T020000
RDATE:20270314T020000
END:DAYLIGHT
END:VTIMEZONE
BEGIN:VEVENT
UID:f5995951-6942-415c-8c18-a797ecd10a22
DTSTAMP:20260419T154334Z
DESCRIPTION:Kids (ages 4+) can put their favorite pajamas on and drop in an
 y time between 11 AM and 1 PM to celebrate the Polar Express! Design train
  layouts with fun sets and enjoy relaxing train-themed activities.
DTSTART;TZID=America/New_York:20251206T110000
DTEND;TZID=America/New_York:20251206T130000
LOCATION:Village Library\, 175 N. Main Street\, Broadway\, VA 22815 US
SUMMARY:Train Lovers Party @Village Library
END:VEVENT
END:VCALENDAR
