BEGIN:VCALENDAR
VERSION:2.0
PRODID:-//mrlib.org//NONSGML kigkonsult.se iCalcreator 2.30.10//
CALSCALE:GREGORIAN
METHOD:PUBLISH
UID:a151d319-4027-402c-8a42-b936ed846f05
X-WR-CALDESC:Experience downtown Harrisonburg's Winter Wonderfest at Centra
 l Library! Listen to musical performances from the Shenandoah Valley Child
 ren's Choir (SVCC)\, enjoy violin and piano concerts by EMU's Shenandoah V
 alley Preparatory Music (SVPM) program\, and peruse our Book Sale. \n\nEve
 nt schedule:\n10:00 AM - Performance by SVCC's Intermezzo and Prelude Choi
 rs\n11:00 AM - SVPM's violin concert\n11:45 AM - SVPM's piano concert\n12:
 00 PM - Book Sale starts
X-WR-RELCALID:77a803ca0b50b4872626fcdf7328aa89
X-WR-TIMEZONE:America/New_York
BEGIN:VTIMEZONE
TZID:America/New_York
BEGIN:STANDARD
TZNAME:EST
DTSTART:20251102T020000
TZOFFSETFROM:-0400
TZOFFSETTO:-0500
RDATE:20261101T020000
END:STANDARD
BEGIN:DAYLIGHT
TZNAME:EDT
DTSTART:20250309T020000
TZOFFSETFROM:-0500
TZOFFSETTO:-0400
RDATE:20260308T020000
RDATE:20270314T020000
END:DAYLIGHT
END:VTIMEZONE
BEGIN:VEVENT
UID:d6999178-5f19-4376-a7cf-fb96017b3552
DTSTAMP:20260419T154303Z
DESCRIPTION:Experience downtown Harrisonburg's Winter Wonderfest at Central
  Library! Listen to musical performances from the Shenandoah Valley Childr
 en's Choir (SVCC)\, enjoy violin and piano concerts by EMU's Shenandoah Va
 lley Preparatory Music (SVPM) program\, and peruse our Book Sale. \n\nEven
 t schedule:\n10:00 AM - Performance by SVCC's Intermezzo and Prelude Choir
 s\n11:00 AM - SVPM's violin concert\n11:45 AM - SVPM's piano concert\n12:0
 0 PM - Book Sale starts
DTSTART;TZID=America/New_York:20251206T100000
DTEND;TZID=America/New_York:20251206T150000
LOCATION:Central Library \, 174 S. Main Street\, Harrisonburg\, VA 22801 US
SUMMARY:Winter Wonderfest @Central Library
END:VEVENT
END:VCALENDAR
