BEGIN:VCALENDAR
VERSION:2.0
PRODID:-//mrlib.org//NONSGML kigkonsult.se iCalcreator 2.30.10//
CALSCALE:GREGORIAN
METHOD:PUBLISH
UID:c7df1de2-b7bb-44a1-979e-58d205437b1a
X-WR-CALDESC:This program has been CANCELED due to unforeseen circumstances
 .\n\nMassanutten Regional Library invites you to celebrate the holidays wi
 th a family-friendly festival! \n\nStop by to enjoy:\n- Candy and hot choc
 olate buffet\n- Holiday crafts\n- Family photo station\n- Winter writing s
 tation (write to Santa and local charities!)\n\nBring the whole family and
  discover a world of magical winter fun!
X-WR-RELCALID:c02f895597b519fc73211c10c4087965
X-WR-TIMEZONE:America/New_York
BEGIN:VTIMEZONE
TZID:America/New_York
BEGIN:STANDARD
TZNAME:EST
DTSTART:20251102T020000
TZOFFSETFROM:-0400
TZOFFSETTO:-0500
RDATE:20261101T020000
END:STANDARD
BEGIN:DAYLIGHT
TZNAME:EDT
DTSTART:20250309T020000
TZOFFSETFROM:-0500
TZOFFSETTO:-0400
RDATE:20260308T020000
RDATE:20270314T020000
END:DAYLIGHT
END:VTIMEZONE
BEGIN:VEVENT
UID:1c2bbfc9-5839-4b37-9b68-fa63fac78b7a
DTSTAMP:20260419T161542Z
DESCRIPTION:This program has been CANCELED due to unforeseen circumstances.
 \n\nMassanutten Regional Library invites you to celebrate the holidays wit
 h a family-friendly festival! \n\nStop by to enjoy:\n- Candy and hot choco
 late buffet\n- Holiday crafts\n- Family photo station\n- Winter writing st
 ation (write to Santa and local charities!)\n\nBring the whole family and 
 discover a world of magical winter fun!
DTSTART;TZID=America/New_York:20251210T160000
DTEND;TZID=America/New_York:20251210T173000
LOCATION:North River Library\, 118 Mt. Crawford Ave.\, Bridgewater\, VA 228
 01 US
SUMMARY:CANCELED Family Holiday Festival @North River Library
END:VEVENT
END:VCALENDAR
