BEGIN:VCALENDAR
VERSION:2.0
PRODID:-//mrlib.org//NONSGML kigkonsult.se iCalcreator 2.30.10//
CALSCALE:GREGORIAN
METHOD:PUBLISH
UID:76a19d4d-c308-4c4e-8ca9-c74518f53394
X-WR-CALDESC:Massanutten Regional Library invites you to celebrate the holi
 days with a family-friendly festival! \n\nStop by to enjoy:\n- Candy and h
 ot chocolate buffet\n- Holiday crafts\n- Family photo station\n- Holiday g
 ames\n- Winter writing station (write to Santa and local charities!)\n- Sc
 avenger hunt\n- Holiday costume contest\n\nBring the whole family and disc
 over a world of magical winter fun!
X-WR-RELCALID:70a5db1a4044dbc98e519d6302b04f0f
X-WR-TIMEZONE:America/New_York
BEGIN:VTIMEZONE
TZID:America/New_York
BEGIN:STANDARD
TZNAME:EST
DTSTART:20251102T020000
TZOFFSETFROM:-0400
TZOFFSETTO:-0500
RDATE:20261101T020000
END:STANDARD
BEGIN:DAYLIGHT
TZNAME:EDT
DTSTART:20250309T020000
TZOFFSETFROM:-0500
TZOFFSETTO:-0400
RDATE:20260308T020000
RDATE:20270314T020000
END:DAYLIGHT
END:VTIMEZONE
BEGIN:VEVENT
UID:e56806ef-9de9-421d-8f2f-d17388af39ea
DTSTAMP:20260419T161357Z
DESCRIPTION:Massanutten Regional Library invites you to celebrate the holid
 ays with a family-friendly festival! \n\nStop by to enjoy:\n- Candy and ho
 t chocolate buffet\n- Holiday crafts\n- Family photo station\n- Holiday ga
 mes\n- Winter writing station (write to Santa and local charities!)\n- Sca
 venger hunt\n- Holiday costume contest\n\nBring the whole family and disco
 ver a world of magical winter fun!
DTSTART;TZID=America/New_York:20251213T110000
DTEND;TZID=America/New_York:20251213T130000
LOCATION:Central Library\, 174 S. Main Street\, Harrisonburg\, VA 22801 US
SUMMARY:Family Holiday Festival @Central Library
END:VEVENT
END:VCALENDAR
