BEGIN:VCALENDAR
VERSION:2.0
PRODID:-//mrlib.org//NONSGML kigkonsult.se iCalcreator 2.30.10//
CALSCALE:GREGORIAN
METHOD:PUBLISH
UID:02e6268e-4791-4230-92c2-1a44412a5417
X-WR-CALDESC:Kids of all ages: join us for a special Story Time with Mrs. C
 laus! We'll munch on cookies\, enjoy holiday stories\, and create candy ca
 ne yarn ornaments to decorate your trees!
X-WR-RELCALID:f89bb42ec98e44bbcd7908101e21117f
X-WR-TIMEZONE:America/New_York
BEGIN:VTIMEZONE
TZID:America/New_York
BEGIN:STANDARD
TZNAME:EST
DTSTART:20251102T020000
TZOFFSETFROM:-0400
TZOFFSETTO:-0500
RDATE:20261101T020000
END:STANDARD
BEGIN:DAYLIGHT
TZNAME:EDT
DTSTART:20250309T020000
TZOFFSETFROM:-0500
TZOFFSETTO:-0400
RDATE:20260308T020000
RDATE:20270314T020000
END:DAYLIGHT
END:VTIMEZONE
BEGIN:VEVENT
UID:8a69b8e1-4eb6-4da1-b0a8-922e0c3ad632
DTSTAMP:20260419T161504Z
DESCRIPTION:Kids of all ages: join us for a special Story Time with Mrs. Cl
 aus! We'll munch on cookies\, enjoy holiday stories\, and create candy can
 e yarn ornaments to decorate your trees!
DTSTART;TZID=America/New_York:20251213T110000
DTEND;TZID=America/New_York:20251213T140000
LOCATION:Shenandoah Community Library\, 418 S. Third Street\, Shenandoah\, 
 VA 22849 US
SUMMARY:Story Time and Cookies with Mrs. Claus @Shenandoah Community Librar
 y
END:VEVENT
END:VCALENDAR
