BEGIN:VCALENDAR
VERSION:2.0
PRODID:-//mrlib.org//NONSGML kigkonsult.se iCalcreator 2.30.10//
CALSCALE:GREGORIAN
METHOD:PUBLISH
UID:aedab1b5-abcc-47f5-9db3-02d91ef3a8a4
X-WR-CALDESC:Children of all ages and their caregivers will enjoy books\, s
 ongs\, and crafts that encourage early literacy skill development! Make su
 re to bring your favorite stuffed animal and wear your comfiest pajamas.
X-WR-RELCALID:62edf8ddc7d61d2b7abd45ee379a823a
X-WR-TIMEZONE:America/New_York
BEGIN:VTIMEZONE
TZID:America/New_York
BEGIN:STANDARD
TZNAME:EST
DTSTART:20251102T020000
TZOFFSETFROM:-0400
TZOFFSETTO:-0500
RDATE:20261101T020000
END:STANDARD
BEGIN:DAYLIGHT
TZNAME:EDT
DTSTART:20250309T020000
TZOFFSETFROM:-0500
TZOFFSETTO:-0400
RDATE:20260308T020000
RDATE:20270314T020000
END:DAYLIGHT
END:VTIMEZONE
BEGIN:VEVENT
UID:73962976-7860-4429-aaa7-f107eb1bb430
DTSTAMP:20260419T161504Z
DESCRIPTION:Children of all ages and their caregivers will enjoy books\, so
 ngs\, and crafts that encourage early literacy skill development! Make sur
 e to bring your favorite stuffed animal and wear your comfiest pajamas.
DTSTART;TZID=America/New_York:20251215T103000
DTEND;TZID=America/New_York:20251215T110000
LOCATION:Elkton Community Library\, 106 North Terrace Avenue\, Elkton\, VA 
 22827 US
SUMMARY:Pajama Story Time @Elkton Community Library
END:VEVENT
END:VCALENDAR
