BEGIN:VCALENDAR
VERSION:2.0
PRODID:-//mrlib.org//NONSGML kigkonsult.se iCalcreator 2.30.10//
CALSCALE:GREGORIAN
METHOD:PUBLISH
UID:1fb7ff8d-d048-43f0-8a83-acc2f3c455b9
X-WR-CALDESC:Kids ages 0-5 can join Miss Stephani for a special\, fun-fille
 d Story Time! Enjoy holiday books and songs\, and create thoughtful gifts 
 for friends and family.
X-WR-RELCALID:0e19b0ec6bd839335b292296c8b6c0c4
X-WR-TIMEZONE:America/New_York
BEGIN:VTIMEZONE
TZID:America/New_York
BEGIN:STANDARD
TZNAME:EST
DTSTART:20251102T020000
TZOFFSETFROM:-0400
TZOFFSETTO:-0500
RDATE:20261101T020000
END:STANDARD
BEGIN:DAYLIGHT
TZNAME:EDT
DTSTART:20250309T020000
TZOFFSETFROM:-0500
TZOFFSETTO:-0400
RDATE:20260308T020000
RDATE:20270314T020000
END:DAYLIGHT
END:VTIMEZONE
BEGIN:VEVENT
UID:7456d353-79ef-4ac3-ad78-17169d5a7105
DTSTAMP:20260419T161542Z
DESCRIPTION:Kids ages 0-5 can join Miss Stephani for a special\, fun-filled
  Story Time! Enjoy holiday books and songs\, and create thoughtful gifts f
 or friends and family.
DTSTART;TZID=America/New_York:20251216T110000
DTEND;TZID=America/New_York:20251216T120000
LOCATION:Shenandoah Community Library\, 418 S. Third Street\, Shenandoah\, 
 VA 22849 US
SUMMARY:Holiday Story Time and Craft @Shenandoah Community Library
END:VEVENT
END:VCALENDAR
