BEGIN:VCALENDAR
VERSION:2.0
PRODID:-//mrlib.org//NONSGML kigkonsult.se iCalcreator 2.30.10//
CALSCALE:GREGORIAN
METHOD:PUBLISH
UID:a3420468-3691-4bba-817a-d08abab6f6c2
X-WR-CALDESC:Dogs are wonderful listeners and love to hear stories! Dogs 2 
 Read 2 is a great chance for kids in grades K-5 to practice their reading 
 skills with Timber\, a wonderful and well-behaved pup. \n\nStarting in Jan
 uary 2026\, Dogs 2 Read 2 will return to its regular 4th Wednesday schedul
 e! \n\n*All Dogs 2 Read 2 pups are trained and certified through the Allia
 nce of Therapy Dogs*
X-WR-RELCALID:268519884b3a7d35838767866a559607
X-WR-TIMEZONE:America/New_York
BEGIN:VTIMEZONE
TZID:America/New_York
BEGIN:STANDARD
TZNAME:EST
DTSTART:20251102T020000
TZOFFSETFROM:-0400
TZOFFSETTO:-0500
RDATE:20261101T020000
END:STANDARD
BEGIN:DAYLIGHT
TZNAME:EDT
DTSTART:20250309T020000
TZOFFSETFROM:-0500
TZOFFSETTO:-0400
RDATE:20260308T020000
RDATE:20270314T020000
END:DAYLIGHT
END:VTIMEZONE
BEGIN:VEVENT
UID:47a90445-cfeb-4427-8e01-dadd9d6882d4
DTSTAMP:20260419T154335Z
DESCRIPTION:Dogs are wonderful listeners and love to hear stories! Dogs 2 R
 ead 2 is a great chance for kids in grades K-5 to practice their reading s
 kills with Timber\, a wonderful and well-behaved pup. \n\nStarting in Janu
 ary 2026\, Dogs 2 Read 2 will return to its regular 4th Wednesday schedule
 ! \n\n*All Dogs 2 Read 2 pups are trained and certified through the Allian
 ce of Therapy Dogs*
DTSTART;TZID=America/New_York:20251217T160000
DTEND;TZID=America/New_York:20251217T170000
LOCATION:Elkton Community Library\, 106 N. Terrace Avenue\, Elkton\, VA 228
 27 US
SUMMARY:Dogs 2 Read 2 @Elkton Community Library
END:VEVENT
END:VCALENDAR
