BEGIN:VCALENDAR
VERSION:2.0
PRODID:-//mrlib.org//NONSGML kigkonsult.se iCalcreator 2.30.10//
CALSCALE:GREGORIAN
METHOD:PUBLISH
UID:00429df2-b360-4bf8-9461-1380150c72a2
X-WR-CALDESC:Kids ages 0-5 are invited to a special\, fun-filled Story Time
  with Santa and delicious cookies!  \n
X-WR-RELCALID:d7d1c6479c1ad01fb771500d84b548ab
X-WR-TIMEZONE:America/New_York
BEGIN:VTIMEZONE
TZID:America/New_York
BEGIN:STANDARD
TZNAME:EST
DTSTART:20251102T020000
TZOFFSETFROM:-0400
TZOFFSETTO:-0500
RDATE:20261101T020000
END:STANDARD
BEGIN:DAYLIGHT
TZNAME:EDT
DTSTART:20250309T020000
TZOFFSETFROM:-0500
TZOFFSETTO:-0400
RDATE:20260308T020000
RDATE:20270314T020000
END:DAYLIGHT
END:VTIMEZONE
BEGIN:VEVENT
UID:c1f60c3d-ba90-408c-83fc-cdba9f2ff965
DTSTAMP:20260419T161100Z
DESCRIPTION:Kids ages 0-5 are invited to a special\, fun-filled Story Time 
 with Santa and delicious cookies!  \n
DTSTART;TZID=America/New_York:20251218T103000
DTEND;TZID=America/New_York:20251218T113000
LOCATION:Page Public Library\, 100 Zerkel Street\, Luray\, VA 22835 US
SUMMARY:Cookies with Santa @Page Public Library
END:VEVENT
END:VCALENDAR
